BEGIN:VCALENDAR
VERSION:2.0
PRODID:-//wp-events-plugin.com//7.2.3.1//EN
BEGIN:VEVENT
UID:21@spd-gronau.de
DTSTART:20160516T090000Z
DTEND:20160516T140000Z
DTSTAMP:20160410T182148Z
URL:http://www.spd-gronau.de/events/familienfest-betheln/
SUMMARY:Familienfest Betheln
DESCRIPTION:SPD_Familienfest_Betheln_2016_Handzettel A5
LOCATION:Wanderschutzhütte Betheln\, Am Sportplatz\, Betheln\, Deutschland
GEO:52.10863340948492;9.78590820920408
X-APPLE-STRUCTURED-LOCATION;VALUE=URI;X-ADDRESS=Am Sportplatz\, Betheln\, D
 eutschland;X-APPLE-RADIUS=100;X-TITLE=Wanderschutzhütte Betheln:geo:52.10
 863340948492,9.78590820920408
END:VEVENT
END:VCALENDAR