BEGIN:VCALENDAR
VERSION:2.0
PRODID:-//wp-events-plugin.com//7.2.3.1//EN
BEGIN:VEVENT
UID:24@spd-gronau.de
DTSTART:20160522T080000Z
DTEND:20160522T120000Z
DTSTAMP:20160428T195148Z
URL:http://www.spd-gronau.de/events/fotografie-der-kandidaten-2/
SUMMARY:Fotografie der Kandidaten
DESCRIPTION:Ausweichtermin
LOCATION:Freiwillige Feuerwehr Gronau\, Gartenstraße 1a\, Gronau\, 31028\,
  Deutschland
GEO:52.08882999999999;9.780549999999948
X-APPLE-STRUCTURED-LOCATION;VALUE=URI;X-ADDRESS=Gartenstraße 1a\, Gronau\,
  31028\, Deutschland;X-APPLE-RADIUS=100;X-TITLE=Freiwillige Feuerwehr Gron
 au:geo:52.08882999999999,9.780549999999948
END:VEVENT
END:VCALENDAR