BEGIN:VCALENDAR
VERSION:2.0
PRODID:-//wp-events-plugin.com//7.2.3.1//EN
BEGIN:VEVENT
UID:22@spd-gronau.de
DTSTART:20160428T163000Z
DTEND:20160428T190000Z
DTSTAMP:20160428T054221Z
URL:http://www.spd-gronau.de/events/mitgliederversammlung/
SUMMARY:Mitgliederversammlung
DESCRIPTION:TOP 1 - Begrüßung / Eröffnung\n\nTOP 2 - Regulierung\n\n1. W
 ahl eines Versammlungsleiters / einer Versammlungsleiterin\n2. Wahl eines 
 Schriftführers / einer Schriftführerin\n3. Genehmigung der Tagesordnung\
 n4. Genehmigung der Geschäftsordnung\n5. Wahl einer Mandatsprüfungs- u
 nd Zählkommission\n\nTOP 3 - Kandidatinnen- und Kandidatenvorstellung\n\n
 TOP 4 - Bericht der Mandatsprüfungskommission\n\nTOP 5 - Wahl der Kandida
 tinnen und Kandidaten\n\nTOP 6 - Wahl einer Vertrauensperson und der Stell
 vertretung für den Wahlvorschlag\n\nTOP 7 - Wahl von zwei Vertreterinnen
  / Vertretern für die eidesstattliche Erklärung nach §24 (3) Niedersäc
 hsisches Kommunalwahlgesetz über die ordnungsgemäße Durchführung der V
 ersammlung\n\nTOP 8 - Schlusswort
LOCATION:Wirtshaus Kaiser Franz Josef\, Steintor 9\, Gronau\, Niedersachsen
 \, 31028\, Deutschland
GEO:52.0841884;9.777099799999974
X-APPLE-STRUCTURED-LOCATION;VALUE=URI;X-ADDRESS=Steintor 9\, Gronau\, Niede
 rsachsen\, 31028\, Deutschland;X-APPLE-RADIUS=100;X-TITLE=Wirtshaus Kaiser
  Franz Josef:geo:52.0841884,9.777099799999974
END:VEVENT
END:VCALENDAR