BEGIN:VCALENDAR
VERSION:2.0
PRODID:-//wp-events-plugin.com//7.2.3.1//EN
BEGIN:VEVENT
UID:90@spd-gronau.de
DTSTART:20210805T150000Z
DTEND:20210805T170000Z
DTSTAMP:20210722T163848Z
URL:http://www.spd-gronau.de/events/spd-vor-ort-in-banteln/
SUMMARY:SPD vor Ort in Banteln
DESCRIPTION:
END:VEVENT
END:VCALENDAR